Workbook

Sheet 手帳申請書 
A1: 様式第21号の2
T2: 提出用 | AC2: 印刷後に「□」を選択いただくことをお勧めします。
Q4: ※市町村名
Q5: ※受理年月日 | U5: 年 月 日
B6: 障害者手帳交付申請書 | R6: □ 同時申請あり
A8: 愛媛県知事 様
P9: 申請日 | S9: 年 月 日
A11: 精神保健及び精神障害者福祉に関する法律第45条に基づく精神障害者保健福祉手帳の交付を申請します。
N12: 再登録（該当する場合は赤で囲んでください）
A13: 【申請事項】
A14: □ 新規申請 □ 更新 □ 障害等級変更 □ 都道府県間の住所変更による手帳交付
A16: 精神障害者 本 人 | B16: フリガナ 氏 名 | Q16: 生年月日
B18: 住 所 (居住地)
F19: 〒 | O19: 電話 | S19: - | W19: -
B20: 住民票の 住所 | F20: （上記住所と住民票の住所が異なる場合は記入してください。行政サービスを確実に受けられるようにするため、速やかに住民票の住所変更の届出を行ってください。）
B21: 個人番号
A22: 添付書類 | B22: □ 医師の診断書 □ 年金証書等の写し（ 級）・ 同意書 □ 特別障害給付金受給資格者証等の写し（ 級）・ 同意書 □ 写真（縦４cm×横３cm、上半身を写したもので、１年以内に撮影したもの）
A23: 既存の手帳 | B23: 手帳番号 | M23: 有効期限 | S23: 年 | X23: 月末日
A24: 自立支援医療費 | B24: 受給者 番号
A25: 申請書を 提出した者 | B25: 氏 名 | Q25: 本人との 関係
B26: 住 所
O27: 電話 | S27: - | W27: -
A29: ◎精神障害者本人が18歳未満の場合に記入してください。
A30: 家族等の 連絡先 | B30: フリガナ 氏 名 | Q30: 本人との 続柄
B32: 住 所 | F32: □ 障害者本人と同じ
F33: 〒 | O33: 電話 | S33: - | W33: -
A35: ◎手帳の再交付を申請する場合は記入してください。
A36: 手帳の 再交付申請 | B36: □ 申請する | G36: 申請 理由 | I36: □ 破損 □ 汚損 □ 紛失 □ 写真貼付等の変更 □ 新たな更新欄がないため ※「新たな更新欄がないため」以外の理由の場合は、再交付申請書を添付してください。

Sheet 手帳申請書  (記載例)
A1: 様式第21号の2
T2: 提出用
Q4: ※市町村名
Q5: ※受理年月日 | U5: 年 月 日
B6: 障害者手帳交付申請書 | R6: □ 同時申請あり
A8: 愛媛県知事 様
S9: 年 月 日
A11: 精神保健及び精神障害者福祉に関する法律第45条に基づく精神障害者保健福祉手帳の交付を申請します。
N12: 再登録（該当する場合は赤で囲んでください）
A13: 【申請事項】
A14: □ 新規申請 □ 更新 □ 障害等級変更 □ 都道府県間の住所変更による手帳交付
A16: 精神障害者 本 人 | B16: フリガナ 氏 名 | Q16: 生年月日 | T16: 大・昭・平・令 年 月 日
B18: 住 所 (居住地)
F19: 〒 | O19: 電話 | S19: - | W19: -
B20: 住民票の 住所 | F20: （上記住所と住民票の住所が異なる場合は記入してください。行政サービスを確実に受けられるようにするため、速やかに住民票の住所変更の届出を行ってください。）
B21: 個人番号
A22: 添付書類 | B22: □ 医師の診断書 □ 年金証書等の写し（ 級）・ 同意書 □ 特別障害給付金受給資格者証等の写し（ 級）・ 同意書 □ 写真（縦４cm×横３cm、上半身を写したもので、１年以内に撮影したもの）
A23: 既存の手帳 | B23: 手帳番号 | M23: 有効期限 | P23: 年 月末日
A24: 自立支援医療費 | B24: 受給者 番号
A25: 申請書を 提出した者 | B25: 氏 名 | Q25: 本人との 関係
B26: 住 所
O27: 電話 | S27: - | W27: -
A29: ◎精神障害者本人が18歳未満の場合に記入してください。
A30: 家族等の 連絡先 | B30: フリガナ 氏 名 | Q30: 本人との 続柄
B32: 住 所 | F32: □ 障害者本人と同じ
F33: 〒 | O33: 電話 | S33: - | W33: -
A35: ◎手帳の再交付を申請する場合は記入してください。
A36: 手帳の 再交付申請 | B36: □ 申請する | G36: 申請 理由 | I36: □ 破損 □ 汚損 □ 紛失 □ 写真貼付等の変更 □ 新たな更新欄がないため ※「新たな更新欄がないため」以外の理由の場合は、再交付申請書を添付してください。

Sheet 手帳申請書  (印刷用)
A1: 様式第21号の2
T2: 提出用
Q4: ※市町村名 | AD4: 入力用シートに入力すると反映されます。
Q5: ※受理年月日 | U5: 年 月 日 | AD5: 選択項目は、印刷後に選択すると簡単です。
B6: 障害者手帳交付申請書 | R6: □ 同時申請あり
A8: 愛媛県知事 様
S9: ='手帳申請書 (入力用)'!C3 -> 0
A11: 精神保健及び精神障害者福祉に関する法律第45条に基づく精神障害者保健福祉手帳の交付を申請します。
N12: 再登録（該当する場合は赤で囲んでください）
A13: 【申請事項】
A14: □ 新規申請 □ 更新 □ 障害等級変更 □ 都道府県間の住所変更による手帳交付
A16: 精神障害者 本 人 | B16: フリガナ 氏 名 | F16: ='手帳申請書 (入力用)'!C4 -> 0 | Q16: 生年月日 | T16: ='手帳申請書 (入力用)'!C6 -> 0
F17: ='手帳申請書 (入力用)'!C5 -> 0
B18: 住 所 (居住地) | F18: ='手帳申請書 (入力用)'!C8 -> 0
F19: 〒 | G19: ='手帳申請書 (入力用)'!C7 -> 0 | O19: 電話 | Q19: ='手帳申請書 (入力用)'!C10 -> 0
B20: 住民票の 住所 | F20: （上記住所と住民票の住所が異なる場合は記入してください。行政サービスを確実に受けられるようにするため、速やかに住民票の住所変更の届出を行ってください。）
F21: ='手帳申請書 (入力用)'!C9 -> 0
B22: 個人番号 | F22: ='手帳申請書 (入力用)'!C11 -> 0 | J22: ='手帳申請書 (入力用)'!D11 -> 0 | N22: ='手帳申請書 (入力用)'!E11 -> 0
A23: 添付書類 | B23: □ 医師の診断書 □ 年金証書等の写し（ 級）・ 同意書 □ 特別障害給付金受給資格者証等の写し（ 級）・ 同意書 □ 写真（縦４cm×横３cm、上半身を写したもので、１年以内に撮影したもの）
A24: 既存の手帳 | B24: 手帳番号 | F24: ='手帳申請書 (入力用)'!C12 -> 0 | M24: 有効期限 | P24: ='手帳申請書 (入力用)'!C13 -> 0
A25: 自立支援医療費 | B25: 受給者 番号 | F25: ='手帳申請書 (入力用)'!C14 -> 0
A26: 申請書を 提出した者 | B26: 氏 名 | F26: ='手帳申請書 (入力用)'!C15 -> 0 | Q26: 本人との 関係 | U26: ='手帳申請書 (入力用)'!C17 -> 0
B27: 住 所 | F27: ='手帳申請書 (入力用)'!C16 -> 0
O28: 電話 | Q28: ='手帳申請書 (入力用)'!C18 -> 0
A30: ◎精神障害者本人が18歳未満の場合に記入してください。
A31: 家族等の 連絡先 | B31: フリガナ 氏 名 | F31: ='手帳申請書 (入力用)'!C19 -> 0 | Q31: 本人との 続柄 | U31: ='手帳申請書 (入力用)'!C23 -> 0
F32: ='手帳申請書 (入力用)'!C20 -> 0
B33: 住 所 | F33: ='手帳申請書 (入力用)'!C22 -> 0
F34: □ 障害者本人と同じ | K34: 〒 | L34: ='手帳申請書 (入力用)'!C21 -> 0 | O34: 電話 | Q34: ='手帳申請書 (入力用)'!C24 -> 0
A36: ◎手帳の再交付を申請する場合は記入してください。
A37: 手帳の 再交付申請 | B37: □ 申請する | G37: 申請 理由 | I37: □ 破損 □ 汚損 □ 紛失 □ 写真貼付等の変更 □ 新たな更新欄がないため ※「新たな更新欄がないため」以外の理由の場合は、再交付申請書を添付してください。

Sheet 手帳申請書  (入力用)
A1: 障害者手帳交付申請書 | H1: 使用方法
H2: こちらのシートに必要事項を入力いただくと、「印刷用」シートに反映されます。
A3: 申請日 | H3: 「□」の選択項目は、印刷後に記載いただく方が効率的です。
A4: 精神障害者本人 | B4: フリガナ | H4: 日付は「R5.10.10」、「2023/10/10」で入力可
B5: 氏 名
B6: 生年月日
B7: 〒
B8: 住所（居住地）
B9: 住民票の住所 | H9: ←上記住所と住民票の住所が異なる場合に記入。
B10: 電話番号
B11: 個人番号
A12: 既存の手帳 | B12: 手帳番号
B13: 有効期限
B14: 受給者番号
A15: 申請を 提出した者 | B15: 氏 名
B16: 住 所
B17: 本人との関係
B18: 電話番号
A19: 家族等の連絡先 （18歳未満の場合に入力） | B19: フリガナ
B20: 氏 名
B21: 〒 | H21: ←障害者と同じなら入力不要 「障害者本人と同じ」を選択
B22: 住 所 | H22: ←障害者と同じなら入力不要 「障害者本人と同じ」を選択
B23: 本人との関係
B24: 電話番号
